BEGIN:VCALENDAR
VERSION:2.0
PRODID:-//La Brique - ECPv6.15.13.1//NONSGML v1.0//EN
CALSCALE:GREGORIAN
METHOD:PUBLISH
X-ORIGINAL-URL:https://www.labrique.org
X-WR-CALDESC:Évènements pour La Brique
REFRESH-INTERVAL;VALUE=DURATION:PT1H
X-Robots-Tag:noindex
X-PUBLISHED-TTL:PT1H
BEGIN:VTIMEZONE
TZID:Europe/Paris
BEGIN:DAYLIGHT
TZOFFSETFROM:+0100
TZOFFSETTO:+0200
TZNAME:CEST
DTSTART:20200329T010000
END:DAYLIGHT
BEGIN:STANDARD
TZOFFSETFROM:+0200
TZOFFSETTO:+0100
TZNAME:CET
DTSTART:20201025T010000
END:STANDARD
BEGIN:DAYLIGHT
TZOFFSETFROM:+0100
TZOFFSETTO:+0200
TZNAME:CEST
DTSTART:20210328T010000
END:DAYLIGHT
BEGIN:STANDARD
TZOFFSETFROM:+0200
TZOFFSETTO:+0100
TZNAME:CET
DTSTART:20211031T010000
END:STANDARD
BEGIN:DAYLIGHT
TZOFFSETFROM:+0100
TZOFFSETTO:+0200
TZNAME:CEST
DTSTART:20220327T010000
END:DAYLIGHT
BEGIN:STANDARD
TZOFFSETFROM:+0200
TZOFFSETTO:+0100
TZNAME:CET
DTSTART:20221030T010000
END:STANDARD
END:VTIMEZONE
BEGIN:VEVENT
DTSTART;VALUE=DATE:20211023
DTEND;VALUE=DATE:20211024
DTSTAMP:20260426T045048
CREATED:20210131T124328Z
LAST-MODIFIED:20210604T113730Z
UID:1578-1634947200-1635033599@www.labrique.org
SUMMARY:Tournoi de golf - Montreux
DESCRIPTION:La manifestation est co-organisée et sponsorisée par l’entreprise genevoise CeRFI. \nUn souper clôturera cette journée et une tombola animera la soirée.
URL:https://www.labrique.org/event/tournois-de-golf-montreux/
CATEGORIES:Tout public
ATTACH;FMTTYPE=image/jpeg:https://www.labrique.org/wp-content/uploads/golf-880532_1920.jpg
END:VEVENT
END:VCALENDAR