BEGIN:VCALENDAR
VERSION:2.0
PRODID:-//La Brique - ECPv6.15.13.1//NONSGML v1.0//EN
CALSCALE:GREGORIAN
METHOD:PUBLISH
X-ORIGINAL-URL:https://www.labrique.org
X-WR-CALDESC:Évènements pour La Brique
REFRESH-INTERVAL;VALUE=DURATION:PT1H
X-Robots-Tag:noindex
X-PUBLISHED-TTL:PT1H
BEGIN:VTIMEZONE
TZID:Europe/Paris
BEGIN:DAYLIGHT
TZOFFSETFROM:+0100
TZOFFSETTO:+0200
TZNAME:CEST
DTSTART:20210328T010000
END:DAYLIGHT
BEGIN:STANDARD
TZOFFSETFROM:+0200
TZOFFSETTO:+0100
TZNAME:CET
DTSTART:20211031T010000
END:STANDARD
BEGIN:DAYLIGHT
TZOFFSETFROM:+0100
TZOFFSETTO:+0200
TZNAME:CEST
DTSTART:20220327T010000
END:DAYLIGHT
BEGIN:STANDARD
TZOFFSETFROM:+0200
TZOFFSETTO:+0100
TZNAME:CET
DTSTART:20221030T010000
END:STANDARD
BEGIN:DAYLIGHT
TZOFFSETFROM:+0100
TZOFFSETTO:+0200
TZNAME:CEST
DTSTART:20230326T010000
END:DAYLIGHT
BEGIN:STANDARD
TZOFFSETFROM:+0200
TZOFFSETTO:+0100
TZNAME:CET
DTSTART:20231029T010000
END:STANDARD
END:VTIMEZONE
BEGIN:VEVENT
DTSTART;TZID=Europe/Paris:20220611T133000
DTEND;TZID=Europe/Paris:20220611T180000
DTSTAMP:20260425T133142
CREATED:20220204T095840Z
LAST-MODIFIED:20220406T075428Z
UID:2484-1654954200-1654970400@www.labrique.org
SUMMARY:Course sponsorisée 2022
DESCRIPTION:Courez pour soutenir La Brique et ses activités en faveur des enfants et des familles défavorisées du Burkina Faso!\nComment participer?\nL’idée est simple: recherchez des personnes prêtes à sponsoriser vos tours de stade en versant minimum CHF 1.- par tour effectué (un tour = 300 mètres). La course dure 30 minutes. \nInscrivez le nom de vos sponsors et le montant qu’ils verseront par tour de stade sur la « fiche sponsors » à télécharger (PDF). \nLes enfants peuvent également participer à la course à vélo ou à trottinette. \nVous êtes notre meilleure publicité\, partager l’info autour de vous! \nFlyer course sponsorisée 2022 (PDF) \n\n\n                \n                        \n                            Inscription à la course sponsorisée 2022\n                             \n                         \n \n                        Prénom*Nom*Adresse*NPA*Ville*E-mail*\n                            \n                        Téléphone*RemarqueCAPTCHA\n          \n            \n            \n            \n            \n            \n            \n            \n            \n            \n            \n            \n            \n        \n                        Δ
URL:https://www.labrique.org/event/course-sponsorisee-2022/
LOCATION:Stade de Copet\, Avenue des Crosets\, Vevey\, 1800\, Suisse
CATEGORIES:Tout public
ATTACH;FMTTYPE=image/jpeg:https://www.labrique.org/wp-content/uploads/16-05-21_LBS-baskets.jpg
END:VEVENT
END:VCALENDAR