BEGIN:VCALENDAR
VERSION:2.0
PRODID:-//La Brique - ECPv6.15.13.1//NONSGML v1.0//EN
CALSCALE:GREGORIAN
METHOD:PUBLISH
X-ORIGINAL-URL:https://www.labrique.org
X-WR-CALDESC:Évènements pour La Brique
REFRESH-INTERVAL;VALUE=DURATION:PT1H
X-Robots-Tag:noindex
X-PUBLISHED-TTL:PT1H
BEGIN:VTIMEZONE
TZID:Europe/Paris
BEGIN:DAYLIGHT
TZOFFSETFROM:+0100
TZOFFSETTO:+0200
TZNAME:CEST
DTSTART:20230326T010000
END:DAYLIGHT
BEGIN:STANDARD
TZOFFSETFROM:+0200
TZOFFSETTO:+0100
TZNAME:CET
DTSTART:20231029T010000
END:STANDARD
BEGIN:DAYLIGHT
TZOFFSETFROM:+0100
TZOFFSETTO:+0200
TZNAME:CEST
DTSTART:20240331T010000
END:DAYLIGHT
BEGIN:STANDARD
TZOFFSETFROM:+0200
TZOFFSETTO:+0100
TZNAME:CET
DTSTART:20241027T010000
END:STANDARD
BEGIN:DAYLIGHT
TZOFFSETFROM:+0100
TZOFFSETTO:+0200
TZNAME:CEST
DTSTART:20250330T010000
END:DAYLIGHT
BEGIN:STANDARD
TZOFFSETFROM:+0200
TZOFFSETTO:+0100
TZNAME:CET
DTSTART:20251026T010000
END:STANDARD
END:VTIMEZONE
BEGIN:VEVENT
DTSTART;TZID=Europe/Paris:20241104T190000
DTEND;TZID=Europe/Paris:20241104T213000
DTSTAMP:20260420T052027
CREATED:20210224T082525Z
LAST-MODIFIED:20240403T093025Z
UID:1726-1730746800-1730755800@www.labrique.org
SUMMARY:AG d'automne
DESCRIPTION:Merci de réserver cette date pour l’Assemblée générale de La Brique Suisse \nVotre présence personnelle est vivement souhaitée. Nous vous rappelons que toute personne se trouvant dans l’impossibilité d’y participer est priée de s’excuser. \nLa convocation et l’ordre du jour vous seront envoyés par e-mail au plus tard trois semaines avant notre rencontre. \nA très vite!
URL:https://www.labrique.org/event/ag-dautomne/
CATEGORIES:Membres
ATTACH;FMTTYPE=image/jpeg:https://www.labrique.org/wp-content/uploads/heart-1776746_640.jpg
END:VEVENT
END:VCALENDAR