BEGIN:VCALENDAR
VERSION:2.0
PRODID:-//La Brique - ECPv6.15.13.1//NONSGML v1.0//EN
CALSCALE:GREGORIAN
METHOD:PUBLISH
X-ORIGINAL-URL:https://www.labrique.org
X-WR-CALDESC:Évènements pour La Brique
REFRESH-INTERVAL;VALUE=DURATION:PT1H
X-Robots-Tag:noindex
X-PUBLISHED-TTL:PT1H
BEGIN:VTIMEZONE
TZID:Europe/Paris
BEGIN:DAYLIGHT
TZOFFSETFROM:+0100
TZOFFSETTO:+0200
TZNAME:CEST
DTSTART:20200329T010000
END:DAYLIGHT
BEGIN:STANDARD
TZOFFSETFROM:+0200
TZOFFSETTO:+0100
TZNAME:CET
DTSTART:20201025T010000
END:STANDARD
BEGIN:DAYLIGHT
TZOFFSETFROM:+0100
TZOFFSETTO:+0200
TZNAME:CEST
DTSTART:20210328T010000
END:DAYLIGHT
BEGIN:STANDARD
TZOFFSETFROM:+0200
TZOFFSETTO:+0100
TZNAME:CET
DTSTART:20211031T010000
END:STANDARD
BEGIN:DAYLIGHT
TZOFFSETFROM:+0100
TZOFFSETTO:+0200
TZNAME:CEST
DTSTART:20220327T010000
END:DAYLIGHT
BEGIN:STANDARD
TZOFFSETFROM:+0200
TZOFFSETTO:+0100
TZNAME:CET
DTSTART:20221030T010000
END:STANDARD
END:VTIMEZONE
BEGIN:VEVENT
DTSTART;VALUE=DATE:20210630
DTEND;VALUE=DATE:20210829
DTSTAMP:20260424T014027
CREATED:20210608T075727Z
LAST-MODIFIED:20210630T074106Z
UID:1908-1625011200-1630195199@www.labrique.org
SUMMARY:Expo au Magasin du Monde\, Vevey
DESCRIPTION:Le Magasin du Monde de Vevey offre l’occasion à La Brique de bénéficier de deux mois d’exposition pour faire connaître ses activités et récolter des fonds. \nDu 30 juin au 28 août 2021\, La Brique exposera et vendra des objets artisanaux du Burkina Faso et de Suisse\, en faveur des populations les plus démunies du Burkina: de magnifiques sacs\, des housses pour ordinateurs faites avec des tissus africains par des bénévoles de La Brique\, des portes-savons en céramique\, des bijoux\, des tableaux\, du beurre de karité\, des cartes de voeux\, agrémenteront cette exposition-vente. \nPassez nous voir et parlez-en autour de vous! \nPDF de l’affiche. \nHeures d’ouverture\n\ndu 30 juin au 3 juillet: mardi-vendredi\, 10h-18h; samedi\, 10h-17h\ndu 6 juillet au 14 août: 10h-15h\ndu 17 août au 28 août: mardi-vendredi\, 10h-18h; samedi\, 10h-17h\n\nSite internet du Magasin du monde. \n 
URL:https://www.labrique.org/event/expo-au-magasin-du-monde-vevey/
LOCATION:Magasin du Monde\, Rue du Conseil 20\, Vevey\, 1800\, Suisse
CATEGORIES:Membres,Tout public
ATTACH;FMTTYPE=image/jpeg:https://www.labrique.org/wp-content/uploads/objets-Burkina.jpeg
END:VEVENT
END:VCALENDAR