BEGIN:VCALENDAR
VERSION:2.0
PRODID:-//La Brique - ECPv6.15.13.1//NONSGML v1.0//EN
CALSCALE:GREGORIAN
METHOD:PUBLISH
X-ORIGINAL-URL:https://www.labrique.org
X-WR-CALDESC:Évènements pour La Brique
REFRESH-INTERVAL;VALUE=DURATION:PT1H
X-Robots-Tag:noindex
X-PUBLISHED-TTL:PT1H
BEGIN:VTIMEZONE
TZID:Europe/Paris
BEGIN:DAYLIGHT
TZOFFSETFROM:+0100
TZOFFSETTO:+0200
TZNAME:CEST
DTSTART:20210328T010000
END:DAYLIGHT
BEGIN:STANDARD
TZOFFSETFROM:+0200
TZOFFSETTO:+0100
TZNAME:CET
DTSTART:20211031T010000
END:STANDARD
BEGIN:DAYLIGHT
TZOFFSETFROM:+0100
TZOFFSETTO:+0200
TZNAME:CEST
DTSTART:20220327T010000
END:DAYLIGHT
BEGIN:STANDARD
TZOFFSETFROM:+0200
TZOFFSETTO:+0100
TZNAME:CET
DTSTART:20221030T010000
END:STANDARD
BEGIN:DAYLIGHT
TZOFFSETFROM:+0100
TZOFFSETTO:+0200
TZNAME:CEST
DTSTART:20230326T010000
END:DAYLIGHT
BEGIN:STANDARD
TZOFFSETFROM:+0200
TZOFFSETTO:+0100
TZNAME:CET
DTSTART:20231029T010000
END:STANDARD
END:VTIMEZONE
BEGIN:VEVENT
DTSTART;VALUE=DATE:20220925
DTEND;VALUE=DATE:20221017
DTSTAMP:20260425T022321
CREATED:20220330T082057Z
LAST-MODIFIED:20220926T081201Z
UID:2577-1664064000-1665964799@www.labrique.org
SUMMARY:Jordan Trail - challenge en faveur de La Brique
DESCRIPTION:L’entraide n’a pas de frontières\nDébut mai\, Alexandre Gagnaire s’élancera à vélo depuis Umm Qais au nord de la Jordanie pour tenter de rallier en un minimum de temps Aqaba à 735 km au sud du pays. Emu par les enfants recueillis au centre Sanor\,  il s’est lancé ce défi pour soutenir La Brique et lever des fonds en faveur des enfants vulnérables. \nTous vos dons seront autant de soutiens en faveur des enfants de Sanor que d’encouragements pour la réussite du challenge d’Alexandre. \n\nAvec 20 francs\, vous permettrez à un enfant de reprendre des forces\, d’être nourri\, soigné et choyé durant un peu plus d’une semaine.\nAvec 60 francs\, vous le soutiendrez durant un mois.\n\nEn adressant vos dons à La Brique\, merci d’indiquer la mention « JordanTrail » \nSuivez les aventures d’Alexandre!\nDurant tous le challenge\, vous pourrez suivre le parcours d’Alexandre sur le groupe Facebook « Soutenir La Brique »\, ainsi que sur le compte Instagram d’Alexandre. \n  \n\n\nFAITES UN DON POUR LES ENFANTS\n\n\n\n\n\n\n\n\n\nDepuis la Suisse:\nAdressez vos dons sur le CCP de La Brique: CCP 17-569729-3\nMention « JordanTrail » \n\n\n\n\n\n\n\n\n\nDepuis partout dans le monde:\n\n\n\n\nUtilisez la cagnotte en ligne ouverte sur « Le Pot commun » \n\n\n\n\n\n\n\n 
URL:https://www.labrique.org/event/jordan-trail-challenge-en-faveur-de-la-brique/
CATEGORIES:Tout public
ATTACH;FMTTYPE=image/png:https://www.labrique.org/wp-content/uploads/web-Jordan_Trail.png
END:VEVENT
BEGIN:VEVENT
DTSTART;TZID=Europe/Paris:20221008T183000
DTEND;TZID=Europe/Paris:20221008T230000
DTSTAMP:20260425T022321
CREATED:20220204T103054Z
LAST-MODIFIED:20221002T174316Z
UID:2499-1665253800-1665270000@www.labrique.org
SUMMARY:Souper de soutien "Cabaret"
DESCRIPTION:Nous nous réjouissons de vous retrouver à l’occasion de notre repas de soutien. \nLa soirée sera agrémentée d’animations pour une ambiance cabaret\, conviviale et familiale. Nous aurons le plaisir d’accueillir les artistes Simon et Noel ainsi que Soléman. \nLa soirée débutera par un apéritif à 18h30. Un mot d’accueil et une première animation auront lieu vers 19h15 juste avant le repas. \nMenu:\nSalade\nRôti avec gratin de pommes de terre et haricots\nDessert \nPrix par personne: 70 CHF\n(Enfant jusqu’à 12 ans: 35 CHF)\nBoissons non comprises \nInscriptions clôturées. \n 
URL:https://www.labrique.org/event/souper-de-soutien-cabaret/
LOCATION:Salle Sainte-Claire Vevey\, Rue Sainte-Claire 1\, Vevey\, 1800
CATEGORIES:Tout public
ATTACH;FMTTYPE=image/jpeg:https://www.labrique.org/wp-content/uploads/repas-cabaret.jpg
END:VEVENT
END:VCALENDAR