BEGIN:VCALENDAR
VERSION:2.0
PRODID:-//La Brique - ECPv6.15.13.1//NONSGML v1.0//EN
CALSCALE:GREGORIAN
METHOD:PUBLISH
X-WR-CALNAME:La Brique
X-ORIGINAL-URL:https://www.labrique.org
X-WR-CALDESC:Évènements pour La Brique
REFRESH-INTERVAL;VALUE=DURATION:PT1H
X-Robots-Tag:noindex
X-PUBLISHED-TTL:PT1H
BEGIN:VTIMEZONE
TZID:Europe/Paris
BEGIN:DAYLIGHT
TZOFFSETFROM:+0100
TZOFFSETTO:+0200
TZNAME:CEST
DTSTART:20230326T010000
END:DAYLIGHT
BEGIN:STANDARD
TZOFFSETFROM:+0200
TZOFFSETTO:+0100
TZNAME:CET
DTSTART:20231029T010000
END:STANDARD
BEGIN:DAYLIGHT
TZOFFSETFROM:+0100
TZOFFSETTO:+0200
TZNAME:CEST
DTSTART:20240331T010000
END:DAYLIGHT
BEGIN:STANDARD
TZOFFSETFROM:+0200
TZOFFSETTO:+0100
TZNAME:CET
DTSTART:20241027T010000
END:STANDARD
BEGIN:DAYLIGHT
TZOFFSETFROM:+0100
TZOFFSETTO:+0200
TZNAME:CEST
DTSTART:20250330T010000
END:DAYLIGHT
BEGIN:STANDARD
TZOFFSETFROM:+0200
TZOFFSETTO:+0100
TZNAME:CET
DTSTART:20251026T010000
END:STANDARD
END:VTIMEZONE
BEGIN:VEVENT
DTSTART;VALUE=DATE:20240928
DTEND;VALUE=DATE:20240929
DTSTAMP:20260420T001355
CREATED:20230412T101034Z
LAST-MODIFIED:20240826T075724Z
UID:2836-1727481600-1727567999@www.labrique.org
SUMMARY:Golf: Tournois de charité - La Maison Blanche
DESCRIPTION:[vc_row type= »in_container » full_screen_row_position= »middle » column_margin= »default » column_direction= »default » column_direction_tablet= »default » column_direction_phone= »default » scene_position= »center » text_color= »dark » text_align= »left » row_border_radius= »none » row_border_radius_applies= »bg » overflow= »visible » overlay_strength= »0.3″ gradient_direction= »left_to_right » shape_divider_position= »bottom » bg_image_animation= »none »][vc_column column_padding= »no-extra-padding » column_padding_tablet= »inherit » column_padding_phone= »inherit » column_padding_position= »all » column_element_spacing= »default » background_color_opacity= »1″ background_hover_color_opacity= »1″ column_shadow= »none » column_border_radius= »none » column_link_target= »_self » column_position= »default » gradient_direction= »left_to_right » overlay_strength= »0.3″ width= »1/1″ tablet_width_inherit= »default » tablet_text_alignment= »default » phone_text_alignment= »default » animation_type= »default » bg_image_animation= »none » border_type= »simple » column_border_width= »none » column_border_style= »solid »][vc_column_text]A 15 minute de l’aéroport de Genève\, le Golf de Maison Blanche bénéficie d’une situation géographique unique qui offre des vues époustouflantes sur les Alpes et le bassin lémanique. Participez à notre tournois de charité et soutenez les actions de La Brique au Burkina Faso. \nL’événement est organisé par l’un de nos fidèles partenaires et sponsors\, l’entreprise CeRFI à Genève que nous remercions chaleureusement. \nVous souhaitez participer à ce tournois? Contactez La Brique pour plus de renseignements.[/vc_column_text][/vc_column][/vc_row]
URL:https://www.labrique.org/event/golf-tournois-de-charite-la-maison-blanche/
LOCATION:Golf de la Maison Blanche\, 2870 Route de Mury\, Echenevex\, 01170\, France
CATEGORIES:Tout public
ATTACH;FMTTYPE=image/jpeg:https://www.labrique.org/wp-content/uploads/golf-880532_1920.jpg
END:VEVENT
END:VCALENDAR